BEGIN:VCALENDAR
VERSION:2.0
PRODID:-//Martlets Guild of Archery Coaching - ECPv6.15.20//NONSGML v1.0//EN
CALSCALE:GREGORIAN
METHOD:PUBLISH
X-WR-CALNAME:Martlets Guild of Archery Coaching
X-ORIGINAL-URL:https://martletsguildsussex.org.uk
X-WR-CALDESC:Events for Martlets Guild of Archery Coaching
REFRESH-INTERVAL;VALUE=DURATION:PT1H
X-Robots-Tag:noindex
X-PUBLISHED-TTL:PT1H
BEGIN:VTIMEZONE
TZID:UTC
BEGIN:STANDARD
TZOFFSETFROM:+0000
TZOFFSETTO:+0000
TZNAME:UTC
DTSTART:20230101T000000
END:STANDARD
END:VTIMEZONE
BEGIN:VEVENT
DTSTART;TZID=UTC:20240113T113000
DTEND;TZID=UTC:20240113T173000
DTSTAMP:20260422T002705
CREATED:20230814T200834Z
LAST-MODIFIED:20230814T200834Z
UID:368-1705145400-1705167000@martletsguildsussex.org.uk
SUMMARY:Martlets indoor winter coaching workshop 2023/2024 - Day 4/4.
DESCRIPTION:Following the success of the winter workshops held earlier this year the Martlets Guild has organised an archer-led workshop for you this Winter again. You tell us what you want to work on\, any part of your technique or your equipment. There will be eight sessions across 4 days\, split to mornings and afternoons. You can choose how many sessions you want to attend\, from just one to all eight. Mornings or afternoons or all day\, subject to availability. All archers places will be allocated on a first come – first served basis for each session.\nThis is the event for our first day. \nMorning session: 11:30 to 14:15\nAfternoon session: 14:45 to 17:30 \nSession price: £10 \nPayable to: \nMartlets Guild of Archery Coaching\,\nSort code: 30-98-97\,  Acc: 71869968\nREFERENCE: YOUR NAME & WW \nWinter Indoor Coaching Booking Form
URL:https://martletsguildsussex.org.uk/event/martlets-indoor-winter-coaching-workshop-2023-2024-day-4-4/
LOCATION:Warden Park Academy\, Broad Street\, Cuckfield\, Sussex\, RH17 5DP\, United Kingdom
CATEGORIES:Workshops
ATTACH;FMTTYPE=image/jpeg:https://martletsguildsussex.org.uk/wp-content/uploads/2022/12/indoor-coaching-flyer.jpg
ORGANIZER;CN="Martlets":MAILTO:ado@martletsguildsussex.org.uk
END:VEVENT
END:VCALENDAR